BEGIN:VCALENDAR
VERSION:2.0
PRODID:-//eventon.com NONSGML v1.0//EN
CALSCALE:GREGORIAN
METHOD:PUBLISH
BEGIN:VEVENT
UID:69e749b5145ea
DTSTAMP:20260421T095605Z
DTSTART:20250102
DTEND:20250103
LOCATION:
SUMMARY:Wuthering Waves • Official Launch Trailer
DESCRIPTION:https://youtu.be/tbbJyzrOC2Y\nhttps://releasingwhen.com/events/
 wuthering-waves-official-launch-trailer/
URL:https://releasingwhen.com/events/wuthering-waves-official-launch-trailer/
END:VEVENT
END:VCALENDAR