BEGIN:VCALENDAR
VERSION:2.0
PRODID:-//eventon.com NONSGML v1.0//EN
CALSCALE:GREGORIAN
METHOD:PUBLISH
BEGIN:VEVENT
UID:69e74a133d53f
DTSTAMP:20260421T095739Z
DTSTART:20250206
DTEND:20250207
LOCATION:
SUMMARY:Moons of Darsalon
DESCRIPTION:https://www.youtube.com/watch?v=UwP29y-3yf0\nhttps://releasingw
 hen.com/events/moons-of-darsalon/
URL:https://releasingwhen.com/events/moons-of-darsalon/
END:VEVENT
END:VCALENDAR