BEGIN:VCALENDAR
VERSION:2.0
PRODID:-//eventon.com NONSGML v1.0//EN
CALSCALE:GREGORIAN
METHOD:PUBLISH
BEGIN:VEVENT
UID:69e749bf87785
DTSTAMP:20260421T095615Z
DTSTART:20250227
DTEND:20250228
LOCATION:
SUMMARY:Detective VR
DESCRIPTION:https://www.youtube.com/watch?v=j29L9Yeu3R4\nhttps://releasingw
 hen.com/events/detective-vr/
URL:https://releasingwhen.com/events/detective-vr/
END:VEVENT
END:VCALENDAR