BEGIN:VCALENDAR
VERSION:2.0
PRODID:-//eventon.com NONSGML v1.0//EN
CALSCALE:GREGORIAN
METHOD:PUBLISH
BEGIN:VEVENT
UID:69e74a79efd3c
DTSTAMP:20260421T095921Z
DTSTART:20251023
DTEND:20251024
LOCATION:
SUMMARY:Double Dragon Revive
DESCRIPTION:https://www.youtube.com/watch?v=2csa3a4Z6MA\nhttps://releasingw
 hen.com/events/double-dragon-revive/
URL:https://releasingwhen.com/events/double-dragon-revive/
END:VEVENT
END:VCALENDAR