BEGIN:VCALENDAR
VERSION:2.0
PRODID:-//eventon.com NONSGML v1.0//EN
CALSCALE:GREGORIAN
METHOD:PUBLISH
BEGIN:VEVENT
UID:69e91dd3b00a4
DTSTAMP:20260422T191323Z
DTSTART:20250605
DTEND:20250606
LOCATION:
SUMMARY:Nintendo Switch 2
DESCRIPTION:https://www.youtube.com/watch?v=itpcsQQvgAQ\nhttps://releasingw
 hen.com/events/nintendo-switch-2/
URL:https://releasingwhen.com/events/nintendo-switch-2/
END:VEVENT
END:VCALENDAR