BEGIN:VCALENDAR
VERSION:2.0
PRODID:-//eventon.com NONSGML v1.0//EN
CALSCALE:GREGORIAN
METHOD:PUBLISH
BEGIN:VEVENT
UID:69e751a421ad7
DTSTAMP:20260421T102956Z
DTSTART:20250508
DTEND:20250509
LOCATION:
SUMMARY:Revenge of the Savage Planet
DESCRIPTION:https://www.youtube.com/watch?v=YLgTkasVIGI\nhttps://releasingw
 hen.com/events/revenge-of-the-savage-planet/
URL:https://releasingwhen.com/events/revenge-of-the-savage-planet/
END:VEVENT
END:VCALENDAR