BEGIN:VCALENDAR
VERSION:2.0
PRODID:-//eventon.com NONSGML v1.0//EN
CALSCALE:GREGORIAN
METHOD:PUBLISH
BEGIN:VEVENT
UID:69e74a220ad9f
DTSTAMP:20260421T095754Z
DTSTART:20250506
DTEND:20250507
LOCATION:
SUMMARY:Unblock
DESCRIPTION:https://www.youtube.com/watch?v=_7B1XNisCIs\nhttps://releasingw
 hen.com/events/unblock/
URL:https://releasingwhen.com/events/unblock/
END:VEVENT
END:VCALENDAR