BEGIN:VCALENDAR
VERSION:2.0
PRODID:-//eventon.com NONSGML v1.0//EN
CALSCALE:GREGORIAN
METHOD:PUBLISH
BEGIN:VEVENT
UID:69e74a349a7fe
DTSTAMP:20260421T095812Z
DTSTART:20250515
DTEND:20250516
LOCATION:
SUMMARY:Doom: The Dark Ages
DESCRIPTION:https://www.youtube.com/watch?v=S7IEg0_qNXs\nhttps://releasingw
 hen.com/events/doom-the-dark-ages/
URL:https://releasingwhen.com/events/doom-the-dark-ages/
END:VEVENT
END:VCALENDAR