BEGIN:VCALENDAR
VERSION:2.0
PRODID:-//eventon.com NONSGML v1.0//EN
CALSCALE:GREGORIAN
METHOD:PUBLISH
BEGIN:VEVENT
UID:69e749d5646a1
DTSTAMP:20260421T095637Z
DTSTART:20250619
DTEND:20250620
LOCATION:
SUMMARY:The Smurfs - Flower Defense
DESCRIPTION:https://www.youtube.com/watch?v=YAgr1b4-Obo\nhttps://releasingw
 hen.com/events/the-smurfs-flower-defense/
URL:https://releasingwhen.com/events/the-smurfs-flower-defense/
END:VEVENT
END:VCALENDAR