BEGIN:VCALENDAR
VERSION:2.0
PRODID:-//eventon.com NONSGML v1.0//EN
CALSCALE:GREGORIAN
METHOD:PUBLISH
BEGIN:VEVENT
UID:69e74a2cc9963
DTSTAMP:20260421T095804Z
DTSTART:20250619
DTEND:20250620
LOCATION:
SUMMARY:Spray Paint Simulator
DESCRIPTION:https://www.youtube.com/watch?v=VH9RVTjHVEU\nhttps://releasingw
 hen.com/events/spray-paint-simulator-2/
URL:https://releasingwhen.com/events/spray-paint-simulator-2/
END:VEVENT
END:VCALENDAR