BEGIN:VCALENDAR
VERSION:2.0
PRODID:-//eventon.com NONSGML v1.0//EN
CALSCALE:GREGORIAN
METHOD:PUBLISH
BEGIN:VEVENT
UID:69e749d564561
DTSTAMP:20260421T095637Z
DTSTART:20251003
DTEND:20251004
LOCATION:
SUMMARY:Digimon Story Time Stranger
DESCRIPTION:https://www.youtube.com/watch?v=JRCH0qPHYzo\nhttps://releasingw
 hen.com/events/digimon-story-time-stranger/
URL:https://releasingwhen.com/events/digimon-story-time-stranger/
END:VEVENT
END:VCALENDAR