BEGIN:VCALENDAR
VERSION:2.0
PRODID:-//eventon.com NONSGML v1.0//EN
CALSCALE:GREGORIAN
METHOD:PUBLISH
BEGIN:VEVENT
UID:69e74a2cc9823
DTSTAMP:20260421T095804Z
DTSTART:20250825
DTEND:20250826
LOCATION:
SUMMARY:Vlad Circus: Curse of Asmodeus
DESCRIPTION:https://www.youtube.com/watch?v=fLy0KvbwBRM\nhttps://releasingw
 hen.com/events/vlad-circus-curse-of-asmodeus/
URL:https://releasingwhen.com/events/vlad-circus-curse-of-asmodeus/
END:VEVENT
END:VCALENDAR