BEGIN:VCALENDAR
VERSION:2.0
PRODID:-//eventon.com NONSGML v1.0//EN
CALSCALE:GREGORIAN
METHOD:PUBLISH
BEGIN:VEVENT
UID:69e74a3499ecc
DTSTAMP:20260421T095812Z
DTSTART:20251120
DTEND:20251121
LOCATION:
SUMMARY:Samurai Academy: Paws of Fury
DESCRIPTION:https://www.youtube.com/watch?v=Rpp3fkgzj1I Buy It:Nintendo Swi
 tchPlayStation 5\nhttps://releasingwhen.com/events/samurai-academy-paws-of-
 fury/
URL:https://releasingwhen.com/events/samurai-academy-paws-of-fury/
END:VEVENT
END:VCALENDAR