BEGIN:VCALENDAR
VERSION:2.0
PRODID:-//eventon.com NONSGML v1.0//EN
CALSCALE:GREGORIAN
METHOD:PUBLISH
BEGIN:VEVENT
UID:69e74d2fd1f5e
DTSTAMP:20260421T101055Z
DTSTART:20260212
DTEND:20260213
LOCATION:
SUMMARY:Fatal Frame II: Crimson Butterfly Remake
DESCRIPTION:https://www.youtube.com/watch?v=c6-MddjKIG4 DEMO MARCH 05\nhttp
 s://releasingwhen.com/events/fatal-frame-ii-crimson-butterfly-remake/
URL:https://releasingwhen.com/events/fatal-frame-ii-crimson-butterfly-remake/
END:VEVENT
END:VCALENDAR