BEGIN:VCALENDAR
VERSION:2.0
PRODID:-//eventon.com NONSGML v1.0//EN
CALSCALE:GREGORIAN
METHOD:PUBLISH
BEGIN:VEVENT
UID:69e74ce1a6562
DTSTAMP:20260421T100937Z
DTSTART:20260210
DTEND:20260211
LOCATION:
SUMMARY:The Prisoning: Fletcher's Quest
DESCRIPTION:https://www.youtube.com/watch?v=XyefK6GfQ_E\nhttps://releasingw
 hen.com/events/the-prisoning-fletchers-quest/
URL:https://releasingwhen.com/events/the-prisoning-fletchers-quest/
END:VEVENT
END:VCALENDAR