BEGIN:VCALENDAR
VERSION:2.0
PRODID:-//eventon.com NONSGML v1.0//EN
CALSCALE:GREGORIAN
METHOD:PUBLISH
BEGIN:VEVENT
UID:69e74a7010af1
DTSTAMP:20260421T095912Z
DTSTART:20260212
DTEND:20260213
LOCATION:
SUMMARY:ChromaGun 2: Dye Hard
DESCRIPTION:https://www.youtube.com/watch?v=uzvSdydE6G8\nhttps://releasingw
 hen.com/events/chromagun-2-dye-hard/
URL:https://releasingwhen.com/events/chromagun-2-dye-hard/
END:VEVENT
END:VCALENDAR