BEGIN:VCALENDAR
VERSION:2.0
PRODID:-//eventon.com NONSGML v1.0//EN
CALSCALE:GREGORIAN
METHOD:PUBLISH
BEGIN:VEVENT
UID:69e4f21973cb2
DTSTAMP:20260419T151745Z
DTSTART:20260212
DTEND:20260213
LOCATION:
SUMMARY:Tomb Raider
DESCRIPTION:https://www.youtube.com/watch?v=FzjwhFnLJ80\nhttps://releasingw
 hen.com/events/tomb-raider/
URL:https://releasingwhen.com/events/tomb-raider/
END:VEVENT
END:VCALENDAR