BEGIN:VCALENDAR
VERSION:2.0
PRODID:-//eventon.com NONSGML v1.0//EN
CALSCALE:GREGORIAN
METHOD:PUBLISH
BEGIN:VEVENT
UID:69e74a133d44d
DTSTAMP:20260421T095739Z
DTSTART:20260216
DTEND:20260217
LOCATION:
SUMMARY:Dobbel Dungeon
DESCRIPTION:https://www.youtube.com/watch?v=P4pxElPuI2Y\nhttps://releasingw
 hen.com/events/dobbel-dungeon/
URL:https://releasingwhen.com/events/dobbel-dungeon/
END:VEVENT
END:VCALENDAR