BEGIN:VCALENDAR
VERSION:2.0
PRODID:-//eventon.com NONSGML v1.0//EN
CALSCALE:GREGORIAN
METHOD:PUBLISH
BEGIN:VEVENT
UID:69e74a7010aa0
DTSTAMP:20260421T095912Z
DTSTART:20260222
DTEND:20260223
LOCATION:
SUMMARY:Byteworld
DESCRIPTION:\nhttps://releasingwhen.com/events/byteworld/
URL:https://releasingwhen.com/events/byteworld/
END:VEVENT
END:VCALENDAR