BEGIN:VCALENDAR
VERSION:2.0
PRODID:-//eventon.com NONSGML v1.0//EN
CALSCALE:GREGORIAN
METHOD:PUBLISH
BEGIN:VEVENT
UID:69e750288ff8d
DTSTAMP:20260421T102336Z
DTSTART:20260224
DTEND:20260225
LOCATION:
SUMMARY:Rise of Piracy
DESCRIPTION:https://www.youtube.com/watch?v=YAURlyDx52s\nhttps://releasingw
 hen.com/events/rise-of-piracy/
URL:https://releasingwhen.com/events/rise-of-piracy/
END:VEVENT
END:VCALENDAR